BEGIN:VCALENDAR
VERSION:2.0
PRODID:-//CEVAZ - ECPv5.1.4//NONSGML v1.0//EN
CALSCALE:GREGORIAN
METHOD:PUBLISH
X-WR-CALNAME:CEVAZ
X-ORIGINAL-URL:https://www.cevaz.org
X-WR-CALDESC:Eventos para CEVAZ
BEGIN:VTIMEZONE
TZID:America/Halifax
BEGIN:DAYLIGHT
TZOFFSETFROM:-0400
TZOFFSETTO:-0300
TZNAME:ADT
DTSTART:20200308T060000
END:DAYLIGHT
BEGIN:STANDARD
TZOFFSETFROM:-0300
TZOFFSETTO:-0400
TZNAME:AST
DTSTART:20201101T050000
END:STANDARD
END:VTIMEZONE
BEGIN:VEVENT
DTSTART;TZID=America/Halifax:20201014T160000
DTEND;TZID=America/Halifax:20201014T180000
DTSTAMP:20260424T162320
CREATED:20201009T234446Z
LAST-MODIFIED:20201009T234446Z
UID:4508-1602691200-1602698400@www.cevaz.org
SUMMARY:Webinar “Voces de la Literatura Norteamericana”\, presentando a Mary Oliver: "Lápiz y papel y un soplo de aire".
DESCRIPTION:Este miércoles 14 de octubre les invitamos al Webinar “Voces de la Literatura Norteamericana” presentando a Mary Oliver: “Lápiz y papel y un soplo de aire”\, en un encuentro conducido por Mario Morales\, profesor adscrito al Departamento de Literatura de la Escuela de Letras de la Universidad del Zulia. \nEn el reinicio del ciclo de conferencias Voces de la Literatura Norteamericana podrán disfrutar de un ameno recorrido por lo mejor del trabajo poético de Mary Oliver\, célebre escritora estadounidense cuya obra está inspirada en la naturaleza. \nMiércoles 14 de octubre\n4:00 p.m. hora de Venezuela.\nVía Zoom \n \nRegistro a través del link disponible en nuestra biografía de Instagram y Twitter \n
URL:https://www.cevaz.org/event/webinar-voces-de-la-literatura-norteamericana-presentando-a-mary-oliver-lapiz-y-papel-y-un-soplo-de-aire/
ATTACH;FMTTYPE=image/jpeg:https://www.cevaz.org/wp-content/uploads/2020/10/webinar_voces_lit.jpeg
END:VEVENT
END:VCALENDAR