BEGIN:VCALENDAR
VERSION:2.0
PRODID:-//CEVAZ - ECPv5.1.4//NONSGML v1.0//EN
CALSCALE:GREGORIAN
METHOD:PUBLISH
X-WR-CALNAME:CEVAZ
X-ORIGINAL-URL:https://www.cevaz.org
X-WR-CALDESC:Eventos para CEVAZ
BEGIN:VTIMEZONE
TZID:America/Halifax
BEGIN:DAYLIGHT
TZOFFSETFROM:-0400
TZOFFSETTO:-0300
TZNAME:ADT
DTSTART:20200308T060000
END:DAYLIGHT
BEGIN:STANDARD
TZOFFSETFROM:-0300
TZOFFSETTO:-0400
TZNAME:AST
DTSTART:20201101T050000
END:STANDARD
END:VTIMEZONE
BEGIN:VEVENT
DTSTART;TZID=America/Halifax:20200917T090000
DTEND;TZID=America/Halifax:20200917T113000
DTSTAMP:20260424T164522
CREATED:20200916T030705Z
LAST-MODIFIED:20200916T030705Z
UID:4316-1600333200-1600342200@www.cevaz.org
SUMMARY:Segunda edición del foro virtual “EMPRENDIENDO EN TIEMPOS RETADORES”
DESCRIPTION:Segunda edición del foro virtual “EMPRENDIENDO EN TIEMPOS RETADORES”\, un espacio creado para compartir experiencias\, recomendaciones y mejores prácticas sobre cómo llevar con éxito iniciativas de negocio o emprendimiento social en los tiempos actuales. \nCon la participación de @francisavilapardo\, quien nos enseñará cómo llevar una actitud positiva en tiempos de cambio; a su vez @coacheugenius hablará sobre la productividad en el teletrabajo. Como moderador estará el abogado y emprendedor @victorrujano\, también co-fundador de @gentequeemprende. \nA partir de las 9:00 de la mañana\, vía Zoom \n \nRegístrate en el enlace que encontrarás en nuestra bio de IG y Twitter. \nUna vez finalizado\, este foro se publicará en diferido en nuestra cuenta de YouTube. \nÚnete a nosotros y participa. \n
URL:https://www.cevaz.org/event/segunda-edicion-del-foro-virtual-emprendiendo-en-tiempos-retadores/
ATTACH;FMTTYPE=image/jpeg:https://www.cevaz.org/wp-content/uploads/2020/09/forovirtual_emprendimiento.jpeg
END:VEVENT
END:VCALENDAR