BEGIN:VCALENDAR
VERSION:2.0
PRODID:-//CEVAZ - ECPv5.1.4//NONSGML v1.0//EN
CALSCALE:GREGORIAN
METHOD:PUBLISH
X-WR-CALNAME:CEVAZ
X-ORIGINAL-URL:https://www.cevaz.org
X-WR-CALDESC:Eventos para CEVAZ
BEGIN:VTIMEZONE
TZID:America/Halifax
BEGIN:DAYLIGHT
TZOFFSETFROM:-0400
TZOFFSETTO:-0300
TZNAME:ADT
DTSTART:20200308T060000
END:DAYLIGHT
BEGIN:STANDARD
TZOFFSETFROM:-0300
TZOFFSETTO:-0400
TZNAME:AST
DTSTART:20201101T050000
END:STANDARD
END:VTIMEZONE
BEGIN:VEVENT
DTSTART;TZID=America/Halifax:20201012T180000
DTEND;TZID=America/Halifax:20201012T190000
DTSTAMP:20260424T163542
CREATED:20201009T233220Z
LAST-MODIFIED:20201009T233607Z
UID:4503-1602525600-1602529200@www.cevaz.org
SUMMARY:Galería Virtual SINAMAICA
DESCRIPTION:CEVAZ se complace en invitarles a la inauguración de la Galería Virtual SINAMAICA\, con fotografías de Francisco Ynciarte\, en conmemoración del Día de los Pueblos Indígenas. \nSe trata de una selección de 30 imágenes que retratan la cultura y el paisaje de Sinamaica\, capital del municipio Guajira del estado Zulia. \nEn este hermoso trabajo\, Francisco Ynciarte nos presenta a la etnia añú-paraujana\, que significa “gente de agua”\, describiendo visualmente cómo es el día a día de estos pobladores\, sus actividades de pesca\, artesanía\, tradiciones y más. \nLunes 12 de octubre\n6:00 p.m.\nIGTV \n \n
URL:https://www.cevaz.org/event/galeria-virtual-sinamaica/
ATTACH;FMTTYPE=image/jpeg:https://www.cevaz.org/wp-content/uploads/2020/10/galeria_sinamaica.jpeg
END:VEVENT
END:VCALENDAR