BEGIN:VCALENDAR
VERSION:2.0
PRODID:-//CEVAZ - ECPv5.1.4//NONSGML v1.0//EN
CALSCALE:GREGORIAN
METHOD:PUBLISH
X-WR-CALNAME:CEVAZ
X-ORIGINAL-URL:https://www.cevaz.org
X-WR-CALDESC:Eventos para CEVAZ
BEGIN:VTIMEZONE
TZID:America/Halifax
BEGIN:DAYLIGHT
TZOFFSETFROM:-0400
TZOFFSETTO:-0300
TZNAME:ADT
DTSTART:20200308T060000
END:DAYLIGHT
BEGIN:STANDARD
TZOFFSETFROM:-0300
TZOFFSETTO:-0400
TZNAME:AST
DTSTART:20201101T050000
END:STANDARD
END:VTIMEZONE
BEGIN:VEVENT
DTSTART;TZID=America/Halifax:20200908T170000
DTEND;TZID=America/Halifax:20200908T190000
DTSTAMP:20260424T165013
CREATED:20200916T031418Z
LAST-MODIFIED:20200916T031418Z
UID:4320-1599584400-1599591600@www.cevaz.org
SUMMARY:Foro Virtual "Mutaciones de lo creativo: geometrías curvas para un virus".
DESCRIPTION:CEVAZ te invita al Foro Virtual “Mutaciones de lo creativo: geometrías curvas para un virus”.\n \nVía Zoom.\n5:00 p.m. \nPara conocer las diversas posibilidades expresivas que ofrece la producción artística en la actualidad\, contaremos con Raily Yance y Rodrigo Urbina\, artistas multidisciplinarios visuales contemporáneos\, quienes nos hablarán sobre las nuevas tendencias que ofrece la creación artística. \nEste encuentro estará conducido por Jimmy Yánez\, International Official Curator & Museographer. \nParticipa y regístrate a través del link que encontrarás en nuestra biografía de Instagram y Twitter. \nPara mayor información\, escríbenos al correo: bibliotecacevaz@cevaz.com \n
URL:https://www.cevaz.org/event/foro-virtual-mutaciones-de-lo-creativo-geometrias-curvas-para-un-virus/
ATTACH;FMTTYPE=image/jpeg:https://www.cevaz.org/wp-content/uploads/2020/09/forovirtual_mutaciones.jpg
END:VEVENT
END:VCALENDAR