BEGIN:VCALENDAR
VERSION:2.0
PRODID:-//CEVAZ - ECPv5.1.4//NONSGML v1.0//EN
CALSCALE:GREGORIAN
METHOD:PUBLISH
X-WR-CALNAME:CEVAZ
X-ORIGINAL-URL:https://www.cevaz.org
X-WR-CALDESC:Eventos para CEVAZ
BEGIN:VTIMEZONE
TZID:America/Halifax
BEGIN:DAYLIGHT
TZOFFSETFROM:-0400
TZOFFSETTO:-0300
TZNAME:ADT
DTSTART:20200308T060000
END:DAYLIGHT
BEGIN:STANDARD
TZOFFSETFROM:-0300
TZOFFSETTO:-0400
TZNAME:AST
DTSTART:20201101T050000
END:STANDARD
END:VTIMEZONE
BEGIN:VEVENT
DTSTART;TZID=America/Halifax:20200929T170000
DTEND;TZID=America/Halifax:20200929T190000
DTSTAMP:20260424T140617
CREATED:20200929T113612Z
LAST-MODIFIED:20200929T123034Z
UID:4338-1601398800-1601406000@www.cevaz.org
SUMMARY:Conversatorio Virtual “La igualdad está en ti”
DESCRIPTION:Conversatorio Virtual “La igualdad está en ti”\, vía Zoom\, conmemorando los 100 años del derecho al sufragio de las mujeres en los Estados Unidos. \nEste encuentro estará conducido por Diyuly Chourio @diyulychourio_oficial\, abogada y especialista en Derechos humanos\, quien nos hablará desde la perspectiva de los derechos humanos y Tibisay Oliveira @tibisayolivero\, doctora en psicología tratará el aspecto psicosocial. \nEn esta actividad se rendirá homenaje a Ruth Bader Ginsburg\, segunda mujer en ser juez de la Corte Suprema de Justicia de Estados Unidos. \nSe abordará el tema de las leyes que amparan a la mujer\, qué instituciones brindan asistencia\, aclarando dudas en un segmento dedicado a preguntas y respuestas. \nMartes 29 de septiembre\nVía Zoom \n5:00 p.m. \n \n¡Regístrate por el enlace en nuestra biografía! \n
URL:https://www.cevaz.org/event/conversatorio-virtual-la-igualdad-esta-en-ti/
ATTACH;FMTTYPE=image/jpeg:https://www.cevaz.org/wp-content/uploads/2020/09/la_igualdad.jpg
END:VEVENT
END:VCALENDAR