BEGIN:VCALENDAR
VERSION:2.0
PRODID:-//CEVAZ - ECPv5.1.4//NONSGML v1.0//EN
CALSCALE:GREGORIAN
METHOD:PUBLISH
X-WR-CALNAME:CEVAZ
X-ORIGINAL-URL:https://www.cevaz.org
X-WR-CALDESC:Eventos para CEVAZ
BEGIN:VTIMEZONE
TZID:America/Halifax
BEGIN:DAYLIGHT
TZOFFSETFROM:-0400
TZOFFSETTO:-0300
TZNAME:ADT
DTSTART:20200308T060000
END:DAYLIGHT
BEGIN:STANDARD
TZOFFSETFROM:-0300
TZOFFSETTO:-0400
TZNAME:AST
DTSTART:20201101T050000
END:STANDARD
END:VTIMEZONE
BEGIN:VEVENT
DTSTART;TZID=America/Halifax:20201008T090000
DTEND;TZID=America/Halifax:20201008T110000
DTSTAMP:20260424T125315
CREATED:20201010T020602Z
LAST-MODIFIED:20201010T020602Z
UID:4516-1602147600-1602154800@www.cevaz.org
SUMMARY:Conversatorio: “Inteligencia Emocional para Mentes Resilientes”.
DESCRIPTION:Tres ponentes expertas en técnicas de mindfulness\, motivación y desarrollo de la inteligencia emocional para la superación de obstáculos\, ofrecerán útiles recomendaciones para cultivar la salud mental durante tiempos retadores. \nCarla Cadremy @mientornoeducativo\, Nikary Gonzalez @nikaryg y María Elvira Añez @bitacoradelser\, tratarán los temas: “Autoliderazgo emocional”\, “La Esperanza se construye” y “El impacto de las emociones en la salud física”. \nCEVAZ\, el State Alumni Venezuela Capítulo Zulia y Mi Entorno Educativo te invitan. \nJueves 08/10/2020\nDe 9:00 a 11:00 a.m.\nVía Zoom \n¡Regístrate por este link! \n
URL:https://www.cevaz.org/event/conversatorio-inteligencia-emocional-para-mentes-resilientes/
ATTACH;FMTTYPE=image/jpeg:https://www.cevaz.org/wp-content/uploads/2020/10/conversatorio_inteligencia.jpeg
END:VEVENT
END:VCALENDAR