BEGIN:VCALENDAR
VERSION:2.0
PRODID:-//CEVAZ - ECPv5.1.4//NONSGML v1.0//EN
CALSCALE:GREGORIAN
METHOD:PUBLISH
X-WR-CALNAME:CEVAZ
X-ORIGINAL-URL:https://www.cevaz.org
X-WR-CALDESC:Eventos para CEVAZ
BEGIN:VTIMEZONE
TZID:UTC
BEGIN:STANDARD
TZOFFSETFROM:+0000
TZOFFSETTO:+0000
TZNAME:UTC
DTSTART:20190101T000000
END:STANDARD
END:VTIMEZONE
BEGIN:VEVENT
DTSTART;TZID=UTC:20190925T150000
DTEND;TZID=UTC:20190925T180000
DTSTAMP:20260420T124049
CREATED:20190920T181128Z
LAST-MODIFIED:20190920T181128Z
UID:3746-1569423600-1569434400@www.cevaz.org
SUMMARY:Ciclo de Conferencias "VOCES DE LA LITERATURA NORTEAMERICANA"
DESCRIPTION:“VOCES DE LA LITERATURA NORTEAMERICANA”\nCARSON McCULLERS\nLa literatura como la balada dirigido por Mario Morales y Nílibe Fleires \n
URL:https://www.cevaz.org/event/ciclo-de-conferencias-voces-de-la-literatura-norteamericana/
LOCATION:Cevaz Las Mercedes\, Zulia\, Venezuela
ATTACH;FMTTYPE=image/jpeg:https://www.cevaz.org/wp-content/uploads/2019/09/CarsonMcCullers.jpg
END:VEVENT
END:VCALENDAR