BEGIN:VCALENDAR
VERSION:2.0
PRODID:-//CEVAZ - ECPv5.1.4//NONSGML v1.0//EN
CALSCALE:GREGORIAN
METHOD:PUBLISH
X-WR-CALNAME:CEVAZ
X-ORIGINAL-URL:https://www.cevaz.org
X-WR-CALDESC:Eventos para CEVAZ
BEGIN:VTIMEZONE
TZID:America/Halifax
BEGIN:DAYLIGHT
TZOFFSETFROM:-0400
TZOFFSETTO:-0300
TZNAME:ADT
DTSTART:20200308T060000
END:DAYLIGHT
BEGIN:STANDARD
TZOFFSETFROM:-0300
TZOFFSETTO:-0400
TZNAME:AST
DTSTART:20201101T050000
END:STANDARD
END:VTIMEZONE
BEGIN:VEVENT
DTSTART;TZID=America/Halifax:20201015T090000
DTEND;TZID=America/Halifax:20201015T110000
DTSTAMP:20260424T151110
CREATED:20201013T024920Z
LAST-MODIFIED:20201013T024920Z
UID:4528-1602752400-1602759600@www.cevaz.org
SUMMARY:3era edición del Foro Virtual “EMPRENDIENDO EN TIEMPOS RETADORES”
DESCRIPTION:CEVAZ\, State Alumni Venezuela Capítulo Zulia y Gente Que Emprende te invitan a la 3era edición del Foro Virtual “EMPRENDIENDO EN TIEMPOS RETADORES”. \nMary Ángel Bohórguez @ahoramaryangel\, Mentora de Bienestar y Coach de Emprendedores\, presentará la ponencia “Renuévate o Reinvéntate: Crea una versión nueva de ti”. Como moderador estará el abogado y emprendedor @victorrujano. \nJueves 15 de Octubre de 2020\n9:00 a.m.\nVía Zoom \n\nDiferido en el canal de Youtube de CEVAZ. \nRegístrate por este link https://forms.gle/9DDeerwf7S9tawZx7\no a través del enlace que encontrarás en las historias de Instagram \n
URL:https://www.cevaz.org/event/3era-edicion-del-foro-virtual-emprendiendo-en-tiempos-retadores/
ATTACH;FMTTYPE=image/jpeg:https://www.cevaz.org/wp-content/uploads/2020/10/3er_foro_emprendiendo.jpeg
END:VEVENT
END:VCALENDAR